BEGIN:VCALENDAR
VERSION:2.0
PRODID:-//stillwaterseq.org//NONSGML kigkonsult.se iCalcreator 2.30.10//
CALSCALE:GREGORIAN
METHOD:PUBLISH
UID:2f8f0c28-f3ee-45b5-911a-c6ce66260c14
X-WR-CALDESC:A special time for mothers and daughters to bond and grow in t
 heir relationship while sharing in the experience and fun of horses and ri
 ding together. - \nMonday and Tuesday\, 9am to noon
X-WR-RELCALID:d820bb5f04840edc4559074c4b475147
X-WR-TIMEZONE:America/Chicago
BEGIN:VTIMEZONE
TZID:America/Chicago
BEGIN:STANDARD
TZNAME:CST
DTSTART:20251102T020000
TZOFFSETFROM:-0500
TZOFFSETTO:-0600
RDATE:20261101T020000
RDATE:20271107T020000
END:STANDARD
BEGIN:DAYLIGHT
TZNAME:CDT
DTSTART:20260308T020000
TZOFFSETFROM:-0600
TZOFFSETTO:-0500
RDATE:20270314T020000
END:DAYLIGHT
END:VTIMEZONE
BEGIN:VEVENT
UID:6336b676-4ad7-4d57-90c1-5a9a4e213afb
DTSTAMP:20260426T010313Z
DESCRIPTION:A special time for mothers and daughters to bond and grow in th
 eir relationship while sharing in the experience and fun of horses and rid
 ing together. - \nMonday and Tuesday\, 9am to noon
DTSTART;TZID=America/Chicago:20260630T090000
DTEND;TZID=America/Chicago:20260701T000000
LOCATION:Still Waters Equestrian Academy
SUMMARY:Mother/Daughter Camp  - Sorry\, this camp is full
END:VEVENT
END:VCALENDAR
