BEGIN:VCALENDAR
VERSION:2.0
PRODID:-//stillwaterseq.org//NONSGML kigkonsult.se iCalcreator 2.30.10//
CALSCALE:GREGORIAN
METHOD:PUBLISH
UID:a1602bd9-fb26-4fa3-bf31-c85797575e85
X-WR-CALDESC:A mini 3 day camp for students ages 5-7.\nCost $300.00\nDeposi
 t of $150 due with registration\nBalance due before or on first day of cam
 p
X-WR-RELCALID:6e25eab3dffa6d44be44a1e6dffd1f6a
X-WR-TIMEZONE:America/Chicago
BEGIN:VTIMEZONE
TZID:America/Chicago
BEGIN:STANDARD
TZNAME:CST
DTSTART:20251102T020000
TZOFFSETFROM:-0500
TZOFFSETTO:-0600
RDATE:20261101T020000
RDATE:20271107T020000
END:STANDARD
BEGIN:DAYLIGHT
TZNAME:CDT
DTSTART:20260308T020000
TZOFFSETFROM:-0600
TZOFFSETTO:-0500
RDATE:20270314T020000
END:DAYLIGHT
END:VTIMEZONE
BEGIN:VEVENT
UID:adbcec95-265f-45ae-8990-ce6043293e20
DTSTAMP:20260424T064649Z
DESCRIPTION:A mini 3 day camp for students ages 5-7.\nCost $300.00\nDeposit
  of $150 due with registration\nBalance due before or on first day of camp
DTSTART;TZID=America/Chicago:20260526T090000
DTEND;TZID=America/Chicago:20260528T120000
LOCATION:Still Waters Equestrian Academy
SUMMARY:Pony Pals - Session 1
END:VEVENT
END:VCALENDAR
