BEGIN:VCALENDAR
VERSION:2.0
PRODID:-//stillwaterseq.org//NONSGML kigkonsult.se iCalcreator 2.30.10//
CALSCALE:GREGORIAN
METHOD:PUBLISH
UID:2ea97a1c-b9a5-4f3d-b3e7-c9c32821f634
X-WR-CALDESC:A mini 3 day camp for students ages 5-7.\nCost $300.00\nDeposi
 t of $150 due with registration\nBalance due before or on first day of cam
 p
X-WR-RELCALID:abf17253369a05548fb136afea958fec
X-WR-TIMEZONE:America/Chicago
BEGIN:VTIMEZONE
TZID:America/Chicago
BEGIN:STANDARD
TZNAME:CST
DTSTART:20251102T020000
TZOFFSETFROM:-0500
TZOFFSETTO:-0600
RDATE:20261101T020000
RDATE:20271107T020000
END:STANDARD
BEGIN:DAYLIGHT
TZNAME:CDT
DTSTART:20260308T020000
TZOFFSETFROM:-0600
TZOFFSETTO:-0500
RDATE:20270314T020000
END:DAYLIGHT
END:VTIMEZONE
BEGIN:VEVENT
UID:0555308e-f9a8-4881-9eaf-ef1eb7b44cba
DTSTAMP:20260424T064557Z
DESCRIPTION:A mini 3 day camp for students ages 5-7.\nCost $300.00\nDeposit
  of $150 due with registration\nBalance due before or on first day of camp
DTSTART;TZID=America/Chicago:20260615T090000
DTEND;TZID=America/Chicago:20260617T120000
LOCATION:Still Waters Equestrian Academy
SUMMARY:Pony Pals - Session 2 (M\,T\,W)
END:VEVENT
END:VCALENDAR
