BEGIN:VCALENDAR
VERSION:2.0
PRODID:-//stillwaterseq.org//NONSGML kigkonsult.se iCalcreator 2.30.10//
CALSCALE:GREGORIAN
METHOD:PUBLISH
UID:c7ac1177-ed02-42af-ac92-09e2aca4bfd6
X-WR-CALDESC:A mini 3 day camp for students ages 5-7.\nCost $300.00\nDeposi
 t of $150 due with registration\nBalance due before or on first day of cam
 p
X-WR-RELCALID:eee7f169e6edbe1a26f8767f1b13e2f8
X-WR-TIMEZONE:America/Chicago
BEGIN:VTIMEZONE
TZID:America/Chicago
BEGIN:STANDARD
TZNAME:CST
DTSTART:20251102T020000
TZOFFSETFROM:-0500
TZOFFSETTO:-0600
RDATE:20261101T020000
RDATE:20271107T020000
END:STANDARD
BEGIN:DAYLIGHT
TZNAME:CDT
DTSTART:20260308T020000
TZOFFSETFROM:-0600
TZOFFSETTO:-0500
RDATE:20270314T020000
END:DAYLIGHT
END:VTIMEZONE
BEGIN:VEVENT
UID:b87ca632-e830-4bca-944e-f036250f1e4e
DTSTAMP:20260424T064434Z
DESCRIPTION:A mini 3 day camp for students ages 5-7.\nCost $300.00\nDeposit
  of $150 due with registration\nBalance due before or on first day of camp
DTSTART;TZID=America/Chicago:20260714T090000
DTEND;TZID=America/Chicago:20260716T120000
LOCATION:Still Waters Equestrian Academy
SUMMARY:Pony Pals - Session 3
END:VEVENT
END:VCALENDAR
