BEGIN:VCALENDAR
VERSION:2.0
PRODID:-//stillwaterseq.org//NONSGML kigkonsult.se iCalcreator 2.30.10//
CALSCALE:GREGORIAN
METHOD:PUBLISH
UID:fc5c4e26-e726-4b65-b31c-5becd24ab49d
X-WR-CALDESC:A great opportunity for new or infrequent riders to learn and 
 advance through a week of basic horsemanship skills.  No previous experien
 ce required.  Participants must be eight (8) or older\nCost $500\nDeposit 
 of $250 due with registration\nBalance due before or on first day of camp
X-WR-RELCALID:fd7c852175cadf46116a0969012cb689
X-WR-TIMEZONE:America/Chicago
BEGIN:VTIMEZONE
TZID:America/Chicago
BEGIN:STANDARD
TZNAME:CST
DTSTART:20251102T020000
TZOFFSETFROM:-0500
TZOFFSETTO:-0600
RDATE:20261101T020000
RDATE:20271107T020000
END:STANDARD
BEGIN:DAYLIGHT
TZNAME:CDT
DTSTART:20260308T020000
TZOFFSETFROM:-0600
TZOFFSETTO:-0500
RDATE:20270314T020000
END:DAYLIGHT
END:VTIMEZONE
BEGIN:VEVENT
UID:5290c5a4-2f4f-460f-abfd-51d8753db6c9
DTSTAMP:20260421T135031Z
DESCRIPTION:A great opportunity for new or infrequent riders to learn and a
 dvance through a week of basic horsemanship skills.  No previous experienc
 e required.  Participants must be eight (8) or older\nCost $500\nDeposit o
 f $250 due with registration\nBalance due before or on first day of camp
DTSTART;TZID=America/Chicago:20260720T090000
DTEND;TZID=America/Chicago:20260724T150000
LOCATION:Still Waters Equestrian Academy
SUMMARY:Head to Hoof - Session 4 - FULL
END:VEVENT
END:VCALENDAR
